BEGIN:VCALENDAR
VERSION:2.0
PRODID:spatie/icalendar-generator
DESCRIPTION:Veranstaltungen von 
X-WR-CALDESC:Veranstaltungen von 
REFRESH-INTERVAL;VALUE=DURATION:PT1440M
X-PUBLISHED-TTL:PT1440M
BEGIN:VTIMEZONE
TZID:Etc/GMT+0
BEGIN:STANDARD
DTSTART:20250414T200000Z
TZOFFSETFROM:+0000
TZOFFSETTO:+0000
END:STANDARD
END:VTIMEZONE
BEGIN:VTIMEZONE
TZID:UTC
BEGIN:STANDARD
DTSTART:20250725T193623Z
TZOFFSETFROM:+0000
TZOFFSETTO:+0000
END:STANDARD
END:VTIMEZONE
BEGIN:VEVENT
UID:23-21
DTSTAMP:20260421T193623Z
SUMMARY:Monatsversammlung
LOCATION:
ORGANIZER;CN=Sergej:MAILTO:sergej@smoljaninov.de
DTSTART;TZID=Etc/GMT+0:20260109T200000
DTEND;TZID=Etc/GMT+0:20260109T220000
X-ALT-DESC;FMTTYPE=TEXT/HTML:Spätester Termin zur Abgabe der Fanglisten.
CATEGORIES:General
URL;VALUE=URI:https://sfv-homberg.de/mc-events/monatsversammlung-4/
METHOD:PUBLISH
END:VEVENT
END:VCALENDAR