BEGIN:VCALENDAR
VERSION:2.0
PRODID:spatie/icalendar-generator
DESCRIPTION:Veranstaltungen von 
X-WR-CALDESC:Veranstaltungen von 
REFRESH-INTERVAL;VALUE=DURATION:PT1440M
X-PUBLISHED-TTL:PT1440M
BEGIN:VTIMEZONE
TZID:Etc/GMT+0
BEGIN:STANDARD
DTSTART:20251231T100000Z
TZOFFSETFROM:+0000
TZOFFSETTO:+0000
END:STANDARD
END:VTIMEZONE
BEGIN:VTIMEZONE
TZID:UTC
BEGIN:STANDARD
DTSTART:20250725T181217Z
TZOFFSETFROM:+0000
TZOFFSETTO:+0000
END:STANDARD
END:VTIMEZONE
BEGIN:VEVENT
UID:41-13
DTSTAMP:20260421T181217Z
SUMMARY:Jugendgruppe: Jugendangeln Möllricher Teiche
LOCATION:
ORGANIZER;CN=Sergej:MAILTO:sergej@smoljaninov.de
DTSTART;TZID=Etc/GMT+0:20260927T100000
DTEND;TZID=Etc/GMT+0:20260927T160000
X-ALT-DESC;FMTTYPE=TEXT/HTML:Die Jugendgruppe trifft sich um 10:00 am Barsc
 hteich.
CATEGORIES:General
URL;VALUE=URI:https://sfv-homberg.de/mc-events/jugendgruppe-jugendangeln-mo
 ellricher-teiche/
METHOD:PUBLISH
END:VEVENT
END:VCALENDAR