BEGIN:VCALENDAR
VERSION:2.0
PRODID:spatie/icalendar-generator
DESCRIPTION:Veranstaltungen von 
X-WR-CALDESC:Veranstaltungen von 
REFRESH-INTERVAL;VALUE=DURATION:PT1440M
X-PUBLISHED-TTL:PT1440M
BEGIN:VTIMEZONE
TZID:Etc/GMT+0
BEGIN:STANDARD
DTSTART:20260217T083000Z
TZOFFSETFROM:+0000
TZOFFSETTO:+0000
END:STANDARD
END:VTIMEZONE
BEGIN:VTIMEZONE
TZID:UTC
BEGIN:STANDARD
DTSTART:20250725T181101Z
TZOFFSETFROM:+0000
TZOFFSETTO:+0000
END:STANDARD
END:VTIMEZONE
BEGIN:VEVENT
UID:45-17
DTSTAMP:20260421T181101Z
SUMMARY:Gemeinschaftsangeln Silbersee
LOCATION:
ORGANIZER;CN=Sergej:MAILTO:sergej@smoljaninov.de
DTSTART;TZID=Etc/GMT+0:20261114T083000
DTEND;TZID=Etc/GMT+0:20261114T150000
X-ALT-DESC;FMTTYPE=TEXT/HTML:Wir treffen uns um 08:00 Uhr auf unserem Verei
 nsgelände.
CATEGORIES:General
URL;VALUE=URI:https://sfv-homberg.de/mc-events/gemeinschaftsangeln-silberse
 e/
METHOD:PUBLISH
END:VEVENT
END:VCALENDAR