BEGIN:VCALENDAR
VERSION:2.0
PRODID:spatie/icalendar-generator
DESCRIPTION:Veranstaltungen von 
X-WR-CALDESC:Veranstaltungen von 
REFRESH-INTERVAL;VALUE=DURATION:PT1440M
X-PUBLISHED-TTL:PT1440M
BEGIN:VTIMEZONE
TZID:Etc/GMT+0
BEGIN:STANDARD
DTSTART:20251028T170000Z
TZOFFSETFROM:+0000
TZOFFSETTO:+0000
END:STANDARD
END:VTIMEZONE
BEGIN:VTIMEZONE
TZID:UTC
BEGIN:STANDARD
DTSTART:20250725T162227Z
TZOFFSETFROM:+0000
TZOFFSETTO:+0000
END:STANDARD
END:VTIMEZONE
BEGIN:VEVENT
UID:38-11
DTSTAMP:20260421T162227Z
SUMMARY:Gemeinschaftliches Nachtangeln Silbersee
LOCATION:
ORGANIZER;CN=Sergej:MAILTO:sergej@smoljaninov.de
DTSTART;TZID=Etc/GMT+0:20260725T170000
DTEND;TZID=Etc/GMT+0:20260726T070000
X-ALT-DESC;FMTTYPE=TEXT/HTML:Wir treffen uns um 16:30 Uhr auf unserem Verei
 nsgelände
CATEGORIES:General
URL;VALUE=URI:https://sfv-homberg.de/mc-events/gemeinschaftliches-nachtange
 ln-silbersee/
METHOD:PUBLISH
END:VEVENT
END:VCALENDAR