BEGIN:VCALENDAR
VERSION:2.0
PRODID:spatie/icalendar-generator
DESCRIPTION:Veranstaltungen von 
X-WR-CALDESC:Veranstaltungen von 
REFRESH-INTERVAL;VALUE=DURATION:PT1440M
X-PUBLISHED-TTL:PT1440M
BEGIN:VTIMEZONE
TZID:Etc/GMT+0
BEGIN:STANDARD
DTSTART:20250603T083000Z
TZOFFSETFROM:+0000
TZOFFSETTO:+0000
END:STANDARD
END:VTIMEZONE
BEGIN:VTIMEZONE
TZID:UTC
BEGIN:STANDARD
DTSTART:20250725T193336Z
TZOFFSETFROM:+0000
TZOFFSETTO:+0000
END:STANDARD
END:VTIMEZONE
BEGIN:VEVENT
UID:32-26
DTSTAMP:20260421T193336Z
SUMMARY:Arbeitsdienst Rodemann
LOCATION:
ORGANIZER;CN=Sergej:MAILTO:sergej@smoljaninov.de
DTSTART;TZID=Etc/GMT+0:20260228T083000
DTEND;TZID=Etc/GMT+0:20260228T093000
X-ALT-DESC;FMTTYPE=TEXT/HTML:Wir treffen uns am Teich und kümmern uns um d
 en Rückschnitt.
CATEGORIES:General
URL;VALUE=URI:https://sfv-homberg.de/mc-events/arbeitsdienst-rodemann/
METHOD:PUBLISH
END:VEVENT
END:VCALENDAR