BEGIN:VCALENDAR
VERSION:2.0
PRODID:spatie/icalendar-generator
DESCRIPTION:Veranstaltungen von 
X-WR-CALDESC:Veranstaltungen von 
REFRESH-INTERVAL;VALUE=DURATION:PT1440M
X-PUBLISHED-TTL:PT1440M
BEGIN:VTIMEZONE
TZID:Etc/GMT+0
BEGIN:STANDARD
DTSTART:20260317T083000Z
TZOFFSETFROM:+0000
TZOFFSETTO:+0000
END:STANDARD
END:VTIMEZONE
BEGIN:VTIMEZONE
TZID:UTC
BEGIN:STANDARD
DTSTART:20250725T210559Z
TZOFFSETFROM:+0000
TZOFFSETTO:+0000
END:STANDARD
END:VTIMEZONE
BEGIN:VEVENT
UID:48-20
DTSTAMP:20260421T210559Z
SUMMARY:Arbeitsdienst Möllricher Teichen
LOCATION:
ORGANIZER;CN=Sergej:MAILTO:sergej@smoljaninov.de
DTSTART;TZID=Etc/GMT+0:20261212T083000
DTEND;TZID=Etc/GMT+0:20261212T123000
X-ALT-DESC;FMTTYPE=TEXT/HTML:Wir treffen uns am Barschteich und kümmern un
 s um den Rückschnitt.
CATEGORIES:General
URL;VALUE=URI:https://sfv-homberg.de/mc-events/arbeitsdienst-moellricher-te
 ichen-2/
METHOD:PUBLISH
END:VEVENT
END:VCALENDAR