BEGIN:VCALENDAR
VERSION:2.0
PRODID:spatie/icalendar-generator
DESCRIPTION:Veranstaltungen von 
X-WR-CALDESC:Veranstaltungen von 
REFRESH-INTERVAL;VALUE=DURATION:PT1440M
X-PUBLISHED-TTL:PT1440M
BEGIN:VTIMEZONE
TZID:Etc/GMT+0
BEGIN:STANDARD
DTSTART:20260519T083000Z
TZOFFSETFROM:+0000
TZOFFSETTO:+0000
END:STANDARD
END:VTIMEZONE
BEGIN:VTIMEZONE
TZID:UTC
BEGIN:STANDARD
DTSTART:20250725T195251Z
TZOFFSETFROM:+0000
TZOFFSETTO:+0000
END:STANDARD
END:VTIMEZONE
BEGIN:VEVENT
UID:52-30
DTSTAMP:20260421T195251Z
SUMMARY:Arbeitsdienst Efze und Mühlengraben
LOCATION:
ORGANIZER;CN=Sergej:MAILTO:sergej@smoljaninov.de
DTSTART;TZID=Etc/GMT+0:20270213T083000
DTEND;TZID=Etc/GMT+0:20270213T123000
X-ALT-DESC;FMTTYPE=TEXT/HTML:Wir treffen uns um 08:30 Uhr an der Klostermü
 hle und sammeln Müll.
CATEGORIES:General
URL;VALUE=URI:https://sfv-homberg.de/mc-events/arbeitsdienst-efze-und-muehl
 engraben-3/
METHOD:PUBLISH
END:VEVENT
END:VCALENDAR