BEGIN:VCALENDAR
VERSION:2.0
PRODID:spatie/icalendar-generator
DESCRIPTION:Veranstaltungen von 
X-WR-CALDESC:Veranstaltungen von 
REFRESH-INTERVAL;VALUE=DURATION:PT1440M
X-PUBLISHED-TTL:PT1440M
BEGIN:VTIMEZONE
TZID:Etc/GMT+0
BEGIN:STANDARD
DTSTART:20260526T083000Z
TZOFFSETFROM:+0000
TZOFFSETTO:+0000
END:STANDARD
END:VTIMEZONE
BEGIN:VTIMEZONE
TZID:UTC
BEGIN:STANDARD
DTSTART:20250725T194149Z
TZOFFSETFROM:+0000
TZOFFSETTO:+0000
END:STANDARD
END:VTIMEZONE
BEGIN:VEVENT
UID:53-31
DTSTAMP:20260421T194149Z
SUMMARY:Arbeitsdienst am Silbersee
LOCATION:
ORGANIZER;CN=Sergej:MAILTO:sergej@smoljaninov.de
DTSTART;TZID=Etc/GMT+0:20270220T083000
DTEND;TZID=Etc/GMT+0:20270220T123000
X-ALT-DESC;FMTTYPE=TEXT/HTML:Wir treffen uns um 08:30 Uhr auf unserem Verei
 nsgelände und kümmern uns um den Rückschnitt.
CATEGORIES:General
URL;VALUE=URI:https://sfv-homberg.de/mc-events/arbeitsdienst-am-silbersee/
METHOD:PUBLISH
END:VEVENT
END:VCALENDAR